BEGIN:VCALENDAR
VERSION:2.0
PRODID:-//2A Events - ECPv6.15.12.2//NONSGML v1.0//EN
CALSCALE:GREGORIAN
METHOD:PUBLISH
X-WR-CALNAME:2A Events
X-ORIGINAL-URL:https://2aevents.com
X-WR-CALDESC:Events for 2A Events
REFRESH-INTERVAL;VALUE=DURATION:PT1H
X-Robots-Tag:noindex
X-PUBLISHED-TTL:PT1H
BEGIN:VTIMEZONE
TZID:America/New_York
BEGIN:DAYLIGHT
TZOFFSETFROM:-0500
TZOFFSETTO:-0400
TZNAME:EDT
DTSTART:20240310T070000
END:DAYLIGHT
BEGIN:STANDARD
TZOFFSETFROM:-0400
TZOFFSETTO:-0500
TZNAME:EST
DTSTART:20241103T060000
END:STANDARD
BEGIN:DAYLIGHT
TZOFFSETFROM:-0500
TZOFFSETTO:-0400
TZNAME:EDT
DTSTART:20250309T070000
END:DAYLIGHT
BEGIN:STANDARD
TZOFFSETFROM:-0400
TZOFFSETTO:-0500
TZNAME:EST
DTSTART:20251102T060000
END:STANDARD
BEGIN:DAYLIGHT
TZOFFSETFROM:-0500
TZOFFSETTO:-0400
TZNAME:EDT
DTSTART:20260308T070000
END:DAYLIGHT
BEGIN:STANDARD
TZOFFSETFROM:-0400
TZOFFSETTO:-0500
TZNAME:EST
DTSTART:20261101T060000
END:STANDARD
END:VTIMEZONE
BEGIN:VEVENT
DTSTART;VALUE=DATE:20250308
DTEND;VALUE=DATE:20250310
DTSTAMP:20260421T141342
CREATED:20241104T235006Z
LAST-MODIFIED:20250128T233027Z
UID:11041-1741392000-1741564799@2aevents.com
SUMMARY:Bossier City\, LA
DESCRIPTION:
URL:https://2aevents.com/event/bossier-city-la-2/
LOCATION:Bossier City Civic Center\, 620 Benton Rd.
CATEGORIES:Bossier City
END:VEVENT
BEGIN:VEVENT
DTSTART;VALUE=DATE:20250315
DTEND;VALUE=DATE:20250317
DTSTAMP:20260421T141342
CREATED:20250128T233826Z
LAST-MODIFIED:20250128T233906Z
UID:11767-1741996800-1742169599@2aevents.com
SUMMARY:Slidell
DESCRIPTION:
URL:https://2aevents.com/event/slidell/
LOCATION:Slidell\, 100 Harbor Center Blvd.\, Slidell\, Louisiana\, 70461
CATEGORIES:Slidell
END:VEVENT
BEGIN:VEVENT
DTSTART;VALUE=DATE:20250329
DTEND;VALUE=DATE:20250331
DTSTAMP:20260421T141342
CREATED:20240523T223521Z
LAST-MODIFIED:20241104T231134Z
UID:10101-1743206400-1743379199@2aevents.com
SUMMARY:Longview\, TX
DESCRIPTION:
URL:https://2aevents.com/event/longview/
LOCATION:Longview Exhibit Building\, 1123 Jaycee Dr.
CATEGORIES:Longview
END:VEVENT
END:VCALENDAR